BEGIN:VCALENDAR
VERSION:2.0
PRODID:-//Squarespace Inc/Squarespace 6//v6//EN
BEGIN:VEVENT
UID:58d96cea9de4bbe19a084e19@squarespace.com
DTSTAMP:20170327T204021Z
DTSTART:20170330T233000Z
DTEND:20170331T003000Z
SUMMARY:Factory Flesh Meet Up!
END:VEVENT
END:VCALENDAR
